Package: scater Version: 1.34.1 Command: /Library/Frameworks/R.framework/Resources/bin/R CMD build --keep-empty-dirs --no-resave-data scater StartedAt: 2025-04-01 06:54:18 -0400 (Tue, 01 Apr 2025) EndedAt: 2025-04-01 06:57:43 -0400 (Tue, 01 Apr 2025) EllapsedTime: 205.0 seconds RetCode: 0 Status: OK PackageFile: scater_1.34.1.tar.gz PackageFileSize: 4.465 MiB