Package: scanMiR Version: 1.12.0 Command: /home/biocbuild/bbs-3.20-bioc/R/bin/R CMD INSTALL scanMiR StartedAt: 2025-03-31 15:21:55 -0400 (Mon, 31 Mar 2025) EndedAt: 2025-03-31 15:22:10 -0400 (Mon, 31 Mar 2025) EllapsedTime: 14.7 seconds RetCode: 0 Status: OK