Package: scanMiR Version: 1.12.0 Command: /Library/Frameworks/R.framework/Resources/bin/R CMD INSTALL scanMiR StartedAt: 2025-01-27 15:33:23 -0500 (Mon, 27 Jan 2025) EndedAt: 2025-01-27 15:34:04 -0500 (Mon, 27 Jan 2025) EllapsedTime: 40.6 seconds RetCode: 0 Status: OK