Package: scTreeViz Version: 1.12.0 Command: /Library/Frameworks/R.framework/Resources/bin/R CMD check --install=check:scTreeViz.install-out.txt --library=/Library/Frameworks/R.framework/Resources/library --no-vignettes --timings scTreeViz_1.12.0.tar.gz StartedAt: 2025-01-31 09:52:45 -0500 (Fri, 31 Jan 2025) EndedAt: 2025-01-31 10:09:49 -0500 (Fri, 31 Jan 2025) EllapsedTime: 1024.0 seconds RetCode: 0 Status: OK CheckDir: scTreeViz.Rcheck Warnings: 0