Package: scTensor Version: 2.16.0 Command: /Library/Frameworks/R.framework/Resources/bin/R CMD INSTALL scTensor StartedAt: 2025-01-30 16:31:00 -0500 (Thu, 30 Jan 2025) EndedAt: 2025-01-30 16:33:05 -0500 (Thu, 30 Jan 2025) EllapsedTime: 125.2 seconds RetCode: 0 Status: OK