Package: scTensor Version: 2.16.0 Command: /Library/Frameworks/R.framework/Resources/bin/R CMD check --install=check:scTensor.install-out.txt --library=/Library/Frameworks/R.framework/Resources/library --no-vignettes --timings scTensor_2.16.0.tar.gz StartedAt: 2025-04-01 08:56:50 -0400 (Tue, 01 Apr 2025) EndedAt: 2025-04-01 09:09:43 -0400 (Tue, 01 Apr 2025) EllapsedTime: 772.9 seconds RetCode: 0 Status: WARNINGS CheckDir: scTensor.Rcheck Warnings: 1