Package: scTensor Version: 2.16.0 Command: rm -rf scTensor.buildbin-libdir && mkdir scTensor.buildbin-libdir && /Users/biocbuild/BBS/utils/build-universal.sh scTensor_2.16.0.tar.gz /Library/Frameworks/R.framework/Resources/bin/R scTensor.buildbin-libdir StartedAt: 2025-01-31 13:40:16 -0500 (Fri, 31 Jan 2025) EndedAt: 2025-01-31 13:42:29 -0500 (Fri, 31 Jan 2025) EllapsedTime: 132.7 seconds RetCode: 0 Status: OK PackageFile: scTensor_2.16.0.tgz PackageFileSize: 5.883 MiB