Package: scTHI Version: 1.18.0 Command: /Library/Frameworks/R.framework/Resources/bin/R CMD build --keep-empty-dirs --no-resave-data scTHI StartedAt: 2025-01-27 22:29:36 -0500 (Mon, 27 Jan 2025) EndedAt: 2025-01-27 22:31:36 -0500 (Mon, 27 Jan 2025) EllapsedTime: 120.1 seconds RetCode: 0 Status: OK PackageFile: scTHI_1.18.0.tar.gz PackageFileSize: 905.4 KiB