Package: scTGIF Version: 1.20.0 Command: F:\biocbuild\bbs-3.20-bioc\R\bin\R.exe CMD INSTALL scTGIF StartedAt: 2025-01-27 16:14:54 -0500 (Mon, 27 Jan 2025) EndedAt: 2025-01-27 16:15:37 -0500 (Mon, 27 Jan 2025) EllapsedTime: 42.9 seconds RetCode: 0 Status: OK