Package: scTGIF Version: 1.20.0 Command: F:\biocbuild\bbs-3.20-bioc\R\bin\R.exe CMD check --no-multiarch --install=check:scTGIF.install-out.txt --library=F:\biocbuild\bbs-3.20-bioc\R\library --no-vignettes --timings scTGIF_1.20.0.tar.gz StartedAt: 2025-04-01 05:50:10 -0400 (Tue, 01 Apr 2025) EndedAt: 2025-04-01 05:54:52 -0400 (Tue, 01 Apr 2025) EllapsedTime: 282.1 seconds RetCode: 0 Status: OK CheckDir: scTGIF.Rcheck Warnings: 0