Package: scTGIF Version: 1.20.0 Command: chmod a+r scTGIF -R && F:\biocbuild\bbs-3.20-bioc\R\bin\R.exe CMD build --keep-empty-dirs --no-resave-data scTGIF StartedAt: 2025-01-27 21:51:34 -0500 (Mon, 27 Jan 2025) EndedAt: 2025-01-27 21:52:58 -0500 (Mon, 27 Jan 2025) EllapsedTime: 83.7 seconds RetCode: 0 Status: OK PackageFile: scTGIF_1.20.0.tar.gz PackageFileSize: 2.367 MiB