Package: scTGIF Version: 1.20.0 Command: rm -rf scTGIF.buildbin-libdir && mkdir scTGIF.buildbin-libdir && F:\biocbuild\bbs-3.20-bioc\R\bin\R.exe CMD INSTALL --build --library=scTGIF.buildbin-libdir scTGIF_1.20.0.tar.gz StartedAt: 2025-01-28 09:07:07 -0500 (Tue, 28 Jan 2025) EndedAt: 2025-01-28 09:07:57 -0500 (Tue, 28 Jan 2025) EllapsedTime: 49.7 seconds RetCode: 0 Status: OK PackageFile: scTGIF_1.20.0.zip PackageFileSize: 1.991 MiB