Package: scTGIF Version: 1.20.0 Command: /home/biocbuild/R/R/bin/R CMD INSTALL scTGIF StartedAt: 2024-11-19 21:03:01 -0000 (Tue, 19 Nov 2024) EndedAt: 2024-11-19 21:03:53 -0000 (Tue, 19 Nov 2024) EllapsedTime: 51.9 seconds RetCode: 0 Status: OK