Package: scTGIF Version: 1.20.0 Command: /Library/Frameworks/R.framework/Resources/bin/R CMD INSTALL scTGIF StartedAt: 2025-01-27 16:51:30 -0500 (Mon, 27 Jan 2025) EndedAt: 2025-01-27 16:52:11 -0500 (Mon, 27 Jan 2025) EllapsedTime: 40.5 seconds RetCode: 0 Status: OK