Package: scShapes Version: 1.12.0 Command: F:\biocbuild\bbs-3.20-bioc\R\bin\R.exe CMD INSTALL scShapes StartedAt: 2025-01-27 15:52:23 -0500 (Mon, 27 Jan 2025) EndedAt: 2025-01-27 15:52:37 -0500 (Mon, 27 Jan 2025) EllapsedTime: 14.6 seconds RetCode: 0 Status: OK