Package: scShapes Version: 1.12.0 Command: /home/biocbuild/bbs-3.20-bioc/R/bin/R CMD INSTALL scShapes StartedAt: 2025-02-03 15:28:41 -0500 (Mon, 03 Feb 2025) EndedAt: 2025-02-03 15:28:48 -0500 (Mon, 03 Feb 2025) EllapsedTime: 6.9 seconds RetCode: 0 Status: OK