Package: scShapes Version: 1.12.0 Command: /home/biocbuild/bbs-3.20-bioc/R/bin/R CMD check --install=check:scShapes.install-out.txt --library=/home/biocbuild/bbs-3.20-bioc/R/site-library --timings scShapes_1.12.0.tar.gz StartedAt: 2025-01-28 03:03:31 -0500 (Tue, 28 Jan 2025) EndedAt: 2025-01-28 03:07:18 -0500 (Tue, 28 Jan 2025) EllapsedTime: 227.2 seconds RetCode: 0 Status: OK CheckDir: scShapes.Rcheck Warnings: 0