Package: scShapes Version: 1.12.0 Command: /Library/Frameworks/R.framework/Resources/bin/R CMD build --keep-empty-dirs --no-resave-data scShapes StartedAt: 2025-01-27 22:27:38 -0500 (Mon, 27 Jan 2025) EndedAt: 2025-01-27 22:31:44 -0500 (Mon, 27 Jan 2025) EllapsedTime: 246.0 seconds RetCode: 0 Status: OK PackageFile: scShapes_1.12.0.tar.gz PackageFileSize: 29.91 KiB