Package: scShapes Version: 1.12.0 Command: rm -rf scShapes.buildbin-libdir && mkdir scShapes.buildbin-libdir && /Users/biocbuild/BBS/utils/build-universal.sh scShapes_1.12.0.tar.gz /Library/Frameworks/R.framework/Resources/bin/R scShapes.buildbin-libdir StartedAt: 2025-01-31 13:40:15 -0500 (Fri, 31 Jan 2025) EndedAt: 2025-01-31 13:40:34 -0500 (Fri, 31 Jan 2025) EllapsedTime: 18.6 seconds RetCode: 0 Status: OK PackageFile: scShapes_1.12.0.tgz PackageFileSize: 71.28 KiB