Package: scShapes Version: 1.12.0 Command: /Library/Frameworks/R.framework/Resources/bin/R CMD build --keep-empty-dirs --no-resave-data scShapes StartedAt: 2024-11-08 19:03:38 -0500 (Fri, 08 Nov 2024) EndedAt: 2024-11-08 19:04:20 -0500 (Fri, 08 Nov 2024) EllapsedTime: 42.4 seconds RetCode: 0 Status: OK PackageFile: scShapes_1.12.0.tar.gz PackageFileSize: 29.79 KiB