Package: scRecover Version: 1.22.0 Command: /Library/Frameworks/R.framework/Resources/bin/R CMD build --keep-empty-dirs --no-resave-data scRecover StartedAt: 2025-01-28 07:38:44 -0500 (Tue, 28 Jan 2025) EndedAt: 2025-01-28 07:40:45 -0500 (Tue, 28 Jan 2025) EllapsedTime: 121.6 seconds RetCode: 0 Status: OK PackageFile: scRecover_1.22.0.tar.gz PackageFileSize: 1.713 MiB