Package: scReClassify Version: 1.12.0 Command: /home/biocbuild/R/R/bin/R CMD build --keep-empty-dirs --no-resave-data scReClassify StartedAt: 2025-01-31 02:33:30 -0000 (Fri, 31 Jan 2025) EndedAt: 2025-01-31 02:36:45 -0000 (Fri, 31 Jan 2025) EllapsedTime: 194.2 seconds RetCode: 0 Status: OK PackageFile: scReClassify_1.12.0.tar.gz PackageFileSize: 2.604 MiB