Package: scRNAseqApp Version: 1.6.1 Command: /home/biocbuild/R/R/bin/R CMD INSTALL scRNAseqApp StartedAt: 2025-01-27 21:46:56 -0000 (Mon, 27 Jan 2025) EndedAt: 2025-01-27 21:48:14 -0000 (Mon, 27 Jan 2025) EllapsedTime: 77.8 seconds RetCode: 0 Status: OK