Package: scRNAseqApp Version: 1.6.1 Command: /home/biocbuild/R/R/bin/R CMD check --install=check:scRNAseqApp.install-out.txt --library=/home/biocbuild/R/R/site-library --no-vignettes --timings scRNAseqApp_1.6.1.tar.gz StartedAt: 2025-01-28 11:08:59 -0000 (Tue, 28 Jan 2025) EndedAt: 2025-01-28 11:16:39 -0000 (Tue, 28 Jan 2025) EllapsedTime: 459.5 seconds RetCode: 0 Status: OK CheckDir: scRNAseqApp.Rcheck Warnings: 0