Package: scRNAseqApp Version: 1.6.1 Command: /home/biocbuild/R/R/bin/R CMD build --keep-empty-dirs --no-resave-data scRNAseqApp StartedAt: 2025-01-28 03:13:56 -0000 (Tue, 28 Jan 2025) EndedAt: 2025-01-28 03:15:45 -0000 (Tue, 28 Jan 2025) EllapsedTime: 109.1 seconds RetCode: 0 Status: OK PackageFile: scRNAseqApp_1.6.1.tar.gz PackageFileSize: 2.255 MiB