Package: scRNAseqApp Version: 1.6.1 Command: chmod a+r scRNAseqApp -R && F:\biocbuild\bbs-3.20-bioc\R\bin\R.exe CMD build --keep-empty-dirs --no-resave-data scRNAseqApp StartedAt: 2025-02-03 22:01:07 -0500 (Mon, 03 Feb 2025) EndedAt: 2025-02-03 22:03:15 -0500 (Mon, 03 Feb 2025) EllapsedTime: 127.8 seconds RetCode: 0 Status: OK PackageFile: scRNAseqApp_1.6.1.tar.gz PackageFileSize: 2.191 MiB