Package: scRNAseqApp Version: 1.6.1 Command: /home/biocbuild/bbs-3.20-bioc/R/bin/R CMD check --install=check:scRNAseqApp.install-out.txt --library=/home/biocbuild/bbs-3.20-bioc/R/site-library --timings scRNAseqApp_1.6.1.tar.gz StartedAt: 2025-02-04 02:19:20 -0500 (Tue, 04 Feb 2025) EndedAt: 2025-02-04 02:25:54 -0500 (Tue, 04 Feb 2025) EllapsedTime: 394.3 seconds RetCode: 0 Status: OK CheckDir: scRNAseqApp.Rcheck Warnings: 0