Package: scRNAseqApp Version: 1.6.1 Command: /Library/Frameworks/R.framework/Resources/bin/R CMD INSTALL scRNAseqApp StartedAt: 2025-01-27 17:22:32 -0500 (Mon, 27 Jan 2025) EndedAt: 2025-01-27 17:23:43 -0500 (Mon, 27 Jan 2025) EllapsedTime: 70.8 seconds RetCode: 0 Status: OK