Package: scRNAseqApp Version: 1.6.1 Command: /Library/Frameworks/R.framework/Resources/bin/R CMD check --install=check:scRNAseqApp.install-out.txt --library=/Library/Frameworks/R.framework/Resources/library --no-vignettes --timings scRNAseqApp_1.6.1.tar.gz StartedAt: 2025-01-29 08:30:48 -0500 (Wed, 29 Jan 2025) EndedAt: 2025-01-29 08:38:25 -0500 (Wed, 29 Jan 2025) EllapsedTime: 456.8 seconds RetCode: 0 Status: OK CheckDir: scRNAseqApp.Rcheck Warnings: 0