Package: scRNAseqApp Version: 1.6.1 Command: /Library/Frameworks/R.framework/Resources/bin/R CMD build --keep-empty-dirs --no-resave-data scRNAseqApp StartedAt: 2025-01-28 07:41:33 -0500 (Tue, 28 Jan 2025) EndedAt: 2025-01-28 07:43:19 -0500 (Tue, 28 Jan 2025) EllapsedTime: 106.2 seconds RetCode: 0 Status: OK PackageFile: scRNAseqApp_1.6.1.tar.gz PackageFileSize: 2.191 MiB