Package: scRNAseqApp Version: 1.6.1 Command: rm -rf scRNAseqApp.buildbin-libdir && mkdir scRNAseqApp.buildbin-libdir && /Users/biocbuild/BBS/utils/build-universal.sh scRNAseqApp_1.6.1.tar.gz /Library/Frameworks/R.framework/Resources/bin/R scRNAseqApp.buildbin-libdir StartedAt: 2025-01-29 16:31:22 -0500 (Wed, 29 Jan 2025) EndedAt: 2025-01-29 16:32:40 -0500 (Wed, 29 Jan 2025) EllapsedTime: 78.4 seconds RetCode: 0 Status: OK PackageFile: scRNAseqApp_1.6.1.tgz PackageFileSize: 3.522 MiB