Package: scPipe Version: 2.6.0 Command: F:\biocbuild\bbs-3.20-bioc\R\bin\R.exe CMD INSTALL scPipe StartedAt: 2025-01-27 16:32:12 -0500 (Mon, 27 Jan 2025) EndedAt: 2025-01-27 16:35:44 -0500 (Mon, 27 Jan 2025) EllapsedTime: 211.4 seconds RetCode: 0 Status: OK