Package: scPipe Version: 2.5.0 Command: chmod a+r scPipe -R && F:\biocbuild\bbs-3.20-bioc\R\bin\R.exe CMD build --keep-empty-dirs --no-resave-data scPipe StartedAt: 2024-06-09 22:08:46 -0400 (Sun, 09 Jun 2024) EndedAt: 2024-06-09 22:19:10 -0400 (Sun, 09 Jun 2024) EllapsedTime: 624.2 seconds RetCode: 0 Status: OK PackageFile: scPipe_2.5.0.tar.gz PackageFileSize: 12.46 MiB