Package: scPipe Version: 2.6.0 Command: /home/biocbuild/bbs-3.20-bioc/R/bin/R CMD INSTALL scPipe StartedAt: 2025-03-31 15:41:51 -0400 (Mon, 31 Mar 2025) EndedAt: 2025-03-31 15:44:04 -0400 (Mon, 31 Mar 2025) EllapsedTime: 132.4 seconds RetCode: 0 Status: OK