Package: scPipe Version: 2.6.0 Command: /Library/Frameworks/R.framework/Resources/bin/R CMD build --keep-empty-dirs --no-resave-data scPipe StartedAt: 2025-01-27 22:24:51 -0500 (Mon, 27 Jan 2025) EndedAt: 2025-01-27 22:52:27 -0500 (Mon, 27 Jan 2025) EllapsedTime: 1655.9 seconds RetCode: 0 Status: OK PackageFile: scPipe_2.6.0.tar.gz PackageFileSize: 12.67 MiB