Package: scPCA Version: 1.20.0 Command: chmod a+r scPCA -R && F:\biocbuild\bbs-3.20-bioc\R\bin\R.exe CMD build --keep-empty-dirs --no-resave-data scPCA StartedAt: 2025-03-31 21:46:41 -0400 (Mon, 31 Mar 2025) EndedAt: 2025-03-31 21:53:44 -0400 (Mon, 31 Mar 2025) EllapsedTime: 423.8 seconds RetCode: 0 Status: OK PackageFile: scPCA_1.20.0.tar.gz PackageFileSize: 871.1 KiB