Package: scPCA Version: 1.20.0 Command: rm -rf scPCA.buildbin-libdir && mkdir scPCA.buildbin-libdir && F:\biocbuild\bbs-3.20-bioc\R\bin\R.exe CMD INSTALL --build --library=scPCA.buildbin-libdir scPCA_1.20.0.tar.gz StartedAt: 2025-04-01 09:10:45 -0400 (Tue, 01 Apr 2025) EndedAt: 2025-04-01 09:11:16 -0400 (Tue, 01 Apr 2025) EllapsedTime: 30.8 seconds RetCode: 0 Status: OK PackageFile: scPCA_1.20.0.zip PackageFileSize: 906.9 KiB