Package: scMultiSim Version: 1.2.0 Command: /Library/Frameworks/R.framework/Resources/bin/R CMD INSTALL scMultiSim StartedAt: 2025-01-30 15:48:41 -0500 (Thu, 30 Jan 2025) EndedAt: 2025-01-30 15:49:44 -0500 (Thu, 30 Jan 2025) EllapsedTime: 62.9 seconds RetCode: 0 Status: OK