Package: scMitoMut Version: 1.2.0 Command: /home/biocbuild/R/R/bin/R CMD check --install=check:scMitoMut.install-out.txt --library=/home/biocbuild/R/R/site-library --no-vignettes --timings scMitoMut_1.2.0.tar.gz StartedAt: 2025-01-28 11:03:43 -0000 (Tue, 28 Jan 2025) EndedAt: 2025-01-28 11:04:54 -0000 (Tue, 28 Jan 2025) EllapsedTime: 71.0 seconds RetCode: 0 Status: OK CheckDir: scMitoMut.Rcheck Warnings: 0