Package: scMitoMut Version: 1.2.0 Command: chmod a+r scMitoMut -R && F:\biocbuild\bbs-3.20-bioc\R\bin\R.exe CMD build --keep-empty-dirs --no-resave-data scMitoMut StartedAt: 2025-03-31 21:44:54 -0400 (Mon, 31 Mar 2025) EndedAt: 2025-03-31 21:46:15 -0400 (Mon, 31 Mar 2025) EllapsedTime: 80.8 seconds RetCode: 0 Status: OK PackageFile: scMitoMut_1.2.0.tar.gz PackageFileSize: 1.045 MiB