Package: scMerge Version: 1.22.0 Command: /home/biocbuild/R/R/bin/R CMD build --keep-empty-dirs --no-resave-data scMerge StartedAt: 2025-04-01 02:28:24 -0000 (Tue, 01 Apr 2025) EndedAt: 2025-04-01 02:31:10 -0000 (Tue, 01 Apr 2025) EllapsedTime: 166.1 seconds RetCode: 0 Status: OK PackageFile: scMerge_1.22.0.tar.gz PackageFileSize: 2.722 MiB