Package: scMET Version: 1.8.0 Command: F:\biocbuild\bbs-3.20-bioc\R\bin\R.exe CMD check --no-multiarch --install=check:scMET.install-out.txt --library=F:\biocbuild\bbs-3.20-bioc\R\library --no-vignettes --timings scMET_1.8.0.tar.gz StartedAt: 2025-04-01 05:43:15 -0400 (Tue, 01 Apr 2025) EndedAt: 2025-04-01 05:48:35 -0400 (Tue, 01 Apr 2025) EllapsedTime: 320.1 seconds RetCode: 0 Status: OK CheckDir: scMET.Rcheck Warnings: 0