Package: scMET Version: 1.8.0 Command: chmod a+r scMET -R && F:\biocbuild\bbs-3.20-bioc\R\bin\R.exe CMD build --keep-empty-dirs --no-resave-data scMET StartedAt: 2025-03-31 21:44:23 -0400 (Mon, 31 Mar 2025) EndedAt: 2025-03-31 21:50:55 -0400 (Mon, 31 Mar 2025) EllapsedTime: 392.5 seconds RetCode: 0 Status: OK PackageFile: scMET_1.8.0.tar.gz PackageFileSize: 2.415 MiB