Package: scMET Version: 1.8.0 Command: /home/biocbuild/R/R/bin/R CMD INSTALL scMET StartedAt: 2024-11-19 21:04:21 -0000 (Tue, 19 Nov 2024) EndedAt: 2024-11-19 21:07:59 -0000 (Tue, 19 Nov 2024) EllapsedTime: 218.5 seconds RetCode: 0 Status: OK