Package: scMET Version: 1.8.0 Command: /Library/Frameworks/R.framework/Resources/bin/R CMD check --install=check:scMET.install-out.txt --library=/Library/Frameworks/R.framework/Resources/library --no-vignettes --timings scMET_1.8.0.tar.gz StartedAt: 2025-01-29 08:13:39 -0500 (Wed, 29 Jan 2025) EndedAt: 2025-01-29 08:17:19 -0500 (Wed, 29 Jan 2025) EllapsedTime: 220.1 seconds RetCode: 0 Status: OK CheckDir: scMET.Rcheck Warnings: 0