Package: scHOT Version: 1.18.0 Command: F:\biocbuild\bbs-3.20-bioc\R\bin\R.exe CMD check --no-multiarch --install=check:scHOT.install-out.txt --library=F:\biocbuild\bbs-3.20-bioc\R\library --no-vignettes --timings scHOT_1.18.0.tar.gz StartedAt: 2025-04-01 05:42:36 -0400 (Tue, 01 Apr 2025) EndedAt: 2025-04-01 05:47:45 -0400 (Tue, 01 Apr 2025) EllapsedTime: 308.5 seconds RetCode: 0 Status: OK CheckDir: scHOT.Rcheck Warnings: 0