Package: scHOT Version: 1.18.0 Command: /home/biocbuild/bbs-3.20-bioc/R/bin/R CMD INSTALL scHOT StartedAt: 2025-01-27 16:08:48 -0500 (Mon, 27 Jan 2025) EndedAt: 2025-01-27 16:09:15 -0500 (Mon, 27 Jan 2025) EllapsedTime: 26.3 seconds RetCode: 0 Status: OK