Package: scHOT Version: 1.18.0 Command: /Library/Frameworks/R.framework/Resources/bin/R CMD build --keep-empty-dirs --no-resave-data scHOT StartedAt: 2025-01-27 22:19:47 -0500 (Mon, 27 Jan 2025) EndedAt: 2025-01-27 22:26:21 -0500 (Mon, 27 Jan 2025) EllapsedTime: 394.1 seconds RetCode: 0 Status: OK PackageFile: scHOT_1.18.0.tar.gz PackageFileSize: 2.314 MiB