Package: scHOT Version: 1.18.0 Command: rm -rf scHOT.buildbin-libdir && mkdir scHOT.buildbin-libdir && /Users/biocbuild/BBS/utils/build-universal.sh scHOT_1.18.0.tar.gz /Library/Frameworks/R.framework/Resources/bin/R scHOT.buildbin-libdir StartedAt: 2025-01-28 14:30:40 -0500 (Tue, 28 Jan 2025) EndedAt: 2025-01-28 14:32:00 -0500 (Tue, 28 Jan 2025) EllapsedTime: 80.1 seconds RetCode: 0 Status: OK PackageFile: scHOT_1.18.0.tgz PackageFileSize: 2.694 MiB