Package: scHOT Version: 1.18.0 Command: rm -rf scHOT.buildbin-libdir && mkdir scHOT.buildbin-libdir && /Users/biocbuild/BBS/utils/build-universal.sh scHOT_1.18.0.tar.gz /Library/Frameworks/R.framework/Resources/bin/R scHOT.buildbin-libdir StartedAt: 2025-04-02 16:12:17 -0400 (Wed, 02 Apr 2025) EndedAt: 2025-04-02 16:12:54 -0400 (Wed, 02 Apr 2025) EllapsedTime: 36.3 seconds RetCode: 0 Status: OK PackageFile: scHOT_1.18.0.tgz PackageFileSize: 2.695 MiB